BEGIN:VCALENDAR
VERSION:2.0
PRODID:-//Solar One - ECPv6.6.4.2//NONSGML v1.0//EN
CALSCALE:GREGORIAN
METHOD:PUBLISH
X-ORIGINAL-URL:https://solar1.org
X-WR-CALDESC:Events for Solar One
REFRESH-INTERVAL;VALUE=DURATION:PT1H
X-Robots-Tag:noindex
X-PUBLISHED-TTL:PT1H
BEGIN:VTIMEZONE
TZID:America/New_York
BEGIN:DAYLIGHT
TZOFFSETFROM:-0500
TZOFFSETTO:-0400
TZNAME:EDT
DTSTART:20250309T070000
END:DAYLIGHT
BEGIN:STANDARD
TZOFFSETFROM:-0400
TZOFFSETTO:-0500
TZNAME:EST
DTSTART:20251102T060000
END:STANDARD
END:VTIMEZONE
BEGIN:VEVENT
DTSTART;TZID=America/New_York:20250918T110000
DTEND;TZID=America/New_York:20250918T140000
DTSTAMP:20260420T053941
CREATED:20250820T225258Z
LAST-MODIFIED:20250820T225430Z
UID:23613-1758193200-1758204000@solar1.org
SUMMARY:Gardening with Vets - Women & Families
DESCRIPTION:Join us for a morning of connecting to land and one another at Stuyvesant Cove\, a waterside native plant park just a few blocks down the street from the Manhattan VA. \nThis event is for Women Veterans and their families– regardless of discharge status– and we’ll harvest and learn about the edible and medicinal plants of this region and celebrate the turning of the seasons. Refreshments will be served. \nThank you for supporting Solar One and our veteran community! \n \n——- \n\nGet Your Tickets HERE \nThis event is FREE. If you would like to support Solar One\, our work\, and community events at Stuy Cove Park\, please consider making a small donation.
URL:https://solar1.org/event/gardening-with-vets-women-families/
LOCATION:Stuy Cove Park\, 24-20 FDR Drive Service Road East\, New York\, NY\, 10010\, United States
CATEGORIES:Community Event,Stuyvesant Cove Events
ATTACH;FMTTYPE=image/png:https://solar1.org/wp-content/uploads/2025/08/ELw5sP0YBYWPUNtsQB7dpf66QOKBwzHyFCI1IR3L.png
END:VEVENT
END:VCALENDAR