BEGIN:VCALENDAR
VERSION:2.0
PRODID:-//Solar One - ECPv6.6.4.2//NONSGML v1.0//EN
CALSCALE:GREGORIAN
METHOD:PUBLISH
X-ORIGINAL-URL:https://solar1.org
X-WR-CALDESC:Events for Solar One
REFRESH-INTERVAL;VALUE=DURATION:PT1H
X-Robots-Tag:noindex
X-PUBLISHED-TTL:PT1H
BEGIN:VTIMEZONE
TZID:America/New_York
BEGIN:DAYLIGHT
TZOFFSETFROM:-0500
TZOFFSETTO:-0400
TZNAME:EDT
DTSTART:20250309T070000
END:DAYLIGHT
BEGIN:STANDARD
TZOFFSETFROM:-0400
TZOFFSETTO:-0500
TZNAME:EST
DTSTART:20251102T060000
END:STANDARD
END:VTIMEZONE
BEGIN:VEVENT
DTSTART;TZID=America/New_York:20250909T183000
DTEND;TZID=America/New_York:20250909T223000
DTSTAMP:20260423T102849
CREATED:20250512T211317Z
LAST-MODIFIED:20250807T034035Z
UID:23528-1757442600-1757457000@solar1.org
SUMMARY:Solar One's "People-Power for the Planet" Community Social
DESCRIPTION:On Tuesday\, September 9th\, 2025\, we are hosting Solar One’s People-Power for the Planet Community Social: a joyful\, outdoor celebration for the Grand Opening of the brand-new Solar One Environmental Education Center. From hands-on learning programs to green space restoration and environmental advocacy\, Solar One brings people-power together to produce real climate solutions for our planet right here in NYC neighborhoods. \nThis community social is the first of a 2-part celebration\, followed in October by the Solar One Gala: Learning & Growing Together—a festive evening\, recognizing those who helped make the Solar One vision a reality. \nAs our programs and our footprint grow\, please join us as a sponsor or ticket holder for one or both events. \nBecome a sponsor/get your ticket for the Community Social below: \nhttps://givebutter.com/c/s1-social \nFor more details on our September Community Social\, please check out the page below: \n2025 Special Events: One-Event Partnership Opportunity & Tickets
URL:https://solar1.org/event/solar-ones-people-power-for-the-planet-community-social/
LOCATION:Stuy Cove Park\, 24-20 FDR Drive Service Road East\, New York\, NY\, 10010\, United States
CATEGORIES:Volunteer Events
ATTACH;FMTTYPE=image/jpeg:https://solar1.org/wp-content/uploads/2025/05/citysol07_7-e1754538020565.jpg
END:VEVENT
END:VCALENDAR