BEGIN:VCALENDAR
VERSION:2.0
PRODID:-//Solar One - ECPv6.6.4.2//NONSGML v1.0//EN
CALSCALE:GREGORIAN
METHOD:PUBLISH
X-WR-CALNAME:Solar One
X-ORIGINAL-URL:https://solar1.org
X-WR-CALDESC:Events for Solar One
REFRESH-INTERVAL;VALUE=DURATION:PT1H
X-Robots-Tag:noindex
X-PUBLISHED-TTL:PT1H
BEGIN:VTIMEZONE
TZID:America/New_York
BEGIN:DAYLIGHT
TZOFFSETFROM:-0500
TZOFFSETTO:-0400
TZNAME:EDT
DTSTART:20260308T070000
END:DAYLIGHT
BEGIN:STANDARD
TZOFFSETFROM:-0400
TZOFFSETTO:-0500
TZNAME:EST
DTSTART:20261101T060000
END:STANDARD
END:VTIMEZONE
BEGIN:VEVENT
DTSTART;VALUE=DATE:20260424
DTEND;VALUE=DATE:20260428
DTSTAMP:20260420T101748
CREATED:20260416T050218Z
LAST-MODIFIED:20260416T050541Z
UID:23877-1776988800-1777334399@solar1.org
SUMMARY:City Nature Challenge NYC on iNaturalist | April 24-27
DESCRIPTION:Join us in our celebration of Earth Day through the City Nature Challenge in NYC! For those who are already part of or would like to join the iNaturalist community\, join our Citizen Science Project: collect data on Stuy Cove Park flora and fauna. \n\nUpload what you’ve discovered on iNaturalist so we can identify various species who are a dear part of our park! \n\nProject link to come. \n—— \n\nIf you would like to support Solar One\, our work\, and community events at Stuy Cove Park\, please consider making a small donation here.
URL:https://solar1.org/event/city-nature-challenge-nyc-on-inaturalist-april-24-27/
LOCATION:Stuy Cove Park\, 24-20 FDR Drive Service Road East\, New York\, NY\, 10010\, United States
CATEGORIES:Community Event,Stuyvesant Cove Events
ATTACH;FMTTYPE=image/jpeg:https://solar1.org/wp-content/uploads/2026/03/3J0A1631-2-scaled-e1776315917311.jpg
END:VEVENT
END:VCALENDAR