BEGIN:VCALENDAR
VERSION:2.0
PRODID:-//Solar One - ECPv6.6.4.2//NONSGML v1.0//EN
CALSCALE:GREGORIAN
METHOD:PUBLISH
X-ORIGINAL-URL:https://solar1.org
X-WR-CALDESC:Events for Solar One
REFRESH-INTERVAL;VALUE=DURATION:PT1H
X-Robots-Tag:noindex
X-PUBLISHED-TTL:PT1H
BEGIN:VTIMEZONE
TZID:America/New_York
BEGIN:DAYLIGHT
TZOFFSETFROM:-0500
TZOFFSETTO:-0400
TZNAME:EDT
DTSTART:20260308T070000
END:DAYLIGHT
BEGIN:STANDARD
TZOFFSETFROM:-0400
TZOFFSETTO:-0500
TZNAME:EST
DTSTART:20261101T060000
END:STANDARD
END:VTIMEZONE
BEGIN:VEVENT
DTSTART;TZID=America/New_York:20260131T130000
DTEND;TZID=America/New_York:20260131T150000
DTSTAMP:20260420T100723
CREATED:20251222T191218Z
LAST-MODIFIED:20251222T191218Z
UID:23777-1769864400-1769871600@solar1.org
SUMMARY:DIY Mushroom Cultivation at Solar One
DESCRIPTION:Learn how to grow oyster mushrooms at home!\nJoin us as at the Solar One Environmental Education Center as we host the NYC Mushroom Network for a DIY cultivation workshop. Bring a big\, clean reclaimed plastic/glass bottle with a lid (2 liter soda\, gallon milk\, anything food grade)\, and we’ll provide everything else you need to grow edible oyster mushrooms at right home! \nThis event is best for adults and kids ages 12+. \nSliding scale tickets will cover materials and directly fund the NYC Mushroom Network’s mission to upcycle organic waste from NYC to grow mushrooms in the community. \nPlease pay what you can. Learn more @nyc_mushroom_network \n——- \n\nSave your spot HERE \nIf you would like to support Solar One\, our work\, and community events at Stuy Cove Park\, please consider making a small donation here.
URL:https://solar1.org/event/diy-mushroom-cultivation-at-solar-one/
LOCATION:Solar One’s NEW Environmental Education Center (Manhattan)\, 800 FDR Dr.\, Service Rd East\, 23rd St and the East River\, NYC\, NY\, 10010
CATEGORIES:Community Event,Stuyvesant Cove Events
ATTACH;FMTTYPE=image/png:https://solar1.org/wp-content/uploads/2025/12/mushroom-event.png
END:VEVENT
END:VCALENDAR